BEGIN:VCALENDAR
VERSION:2.0
PRODID:-//DJ Mitchelll - ECPv6.15.16.1//NONSGML v1.0//EN
CALSCALE:GREGORIAN
METHOD:PUBLISH
X-ORIGINAL-URL:https://www.mitchelll.nl
X-WR-CALDESC:Evenementen voor DJ Mitchelll
REFRESH-INTERVAL;VALUE=DURATION:PT1H
X-Robots-Tag:noindex
X-PUBLISHED-TTL:PT1H
BEGIN:VTIMEZONE
TZID:Europe/Paris
BEGIN:DAYLIGHT
TZOFFSETFROM:+0100
TZOFFSETTO:+0200
TZNAME:CEST
DTSTART:20240331T010000
END:DAYLIGHT
BEGIN:STANDARD
TZOFFSETFROM:+0200
TZOFFSETTO:+0100
TZNAME:CET
DTSTART:20241027T010000
END:STANDARD
BEGIN:DAYLIGHT
TZOFFSETFROM:+0100
TZOFFSETTO:+0200
TZNAME:CEST
DTSTART:20250330T010000
END:DAYLIGHT
BEGIN:STANDARD
TZOFFSETFROM:+0200
TZOFFSETTO:+0100
TZNAME:CET
DTSTART:20251026T010000
END:STANDARD
BEGIN:DAYLIGHT
TZOFFSETFROM:+0100
TZOFFSETTO:+0200
TZNAME:CEST
DTSTART:20260329T010000
END:DAYLIGHT
BEGIN:STANDARD
TZOFFSETFROM:+0200
TZOFFSETTO:+0100
TZNAME:CET
DTSTART:20261025T010000
END:STANDARD
BEGIN:DAYLIGHT
TZOFFSETFROM:+0100
TZOFFSETTO:+0200
TZNAME:CEST
DTSTART:20270328T010000
END:DAYLIGHT
BEGIN:STANDARD
TZOFFSETFROM:+0200
TZOFFSETTO:+0100
TZNAME:CET
DTSTART:20271031T010000
END:STANDARD
END:VTIMEZONE
BEGIN:VEVENT
DTSTART;TZID=Europe/Paris:20251108T200000
DTEND;TZID=Europe/Paris:20251108T200000
DTSTAMP:20260421T071159
CREATED:20251027T130304Z
LAST-MODIFIED:20251027T130346Z
UID:1279-1762632000-1762632000@www.mitchelll.nl
SUMMARY:feest aan de lek
DESCRIPTION:
URL:https://www.mitchelll.nl/event/feest-aan-de-lek/
LOCATION:feest aan de lek\, groenland 37\, krimpen aan de lek\, 2931 RA\, Netherlands
ATTACH;FMTTYPE=image/jpeg:https://www.mitchelll.nl/wp-content/uploads/2025/10/571200125_1110323247924501_6227387383462297279_n.jpg
END:VEVENT
BEGIN:VEVENT
DTSTART;TZID=Europe/Paris:20251122T160000
DTEND;TZID=Europe/Paris:20251122T220000
DTSTAMP:20260421T071159
CREATED:20251109T171025Z
LAST-MODIFIED:20251109T171025Z
UID:1297-1763827200-1763848800@www.mitchelll.nl
SUMMARY:3e helf XXL dilettant
DESCRIPTION:een leuke pot voetbal met daarna een zanger en muziek van dj mitchelll
URL:https://www.mitchelll.nl/event/3e-helf-xxl-dilettant/
END:VEVENT
BEGIN:VEVENT
DTSTART;TZID=Europe/Paris:20251206T200000
DTEND;TZID=Europe/Paris:20251207T010000
DTSTAMP:20260421T071159
CREATED:20250924T174153Z
LAST-MODIFIED:20250924T174210Z
UID:1268-1765051200-1765069200@www.mitchelll.nl
SUMMARY:een 40 jaar+16 jaar verjaardag's party
DESCRIPTION:
URL:https://www.mitchelll.nl/event/een-40-jaar16-jaar-verjaardags-party/
ATTACH;FMTTYPE=image/png:https://www.mitchelll.nl/wp-content/uploads/2025/02/Logo-Mitchell-transparant-1117x1024-1.png
END:VEVENT
BEGIN:VEVENT
DTSTART;TZID=Europe/Paris:20251221T080000
DTEND;TZID=Europe/Paris:20251221T170000
DTSTAMP:20260421T071159
CREATED:20251221T145621Z
LAST-MODIFIED:20251221T145621Z
UID:1304-1766304000-1766336400@www.mitchelll.nl
SUMMARY:Sweet-Sixteen
DESCRIPTION:
URL:https://www.mitchelll.nl/event/sweet-sixteen/
ATTACH;FMTTYPE=image/png:https://www.mitchelll.nl/wp-content/uploads/2025/02/Logo-Mitchell-transparant-1117x1024-1.png
END:VEVENT
BEGIN:VEVENT
DTSTART;TZID=Europe/Paris:20260130T193000
DTEND;TZID=Europe/Paris:20260130T223000
DTSTAMP:20260421T071159
CREATED:20251221T145214Z
LAST-MODIFIED:20260118T193016Z
UID:1301-1769801400-1769812200@www.mitchelll.nl
SUMMARY:apres-ski feest
DESCRIPTION:
URL:https://www.mitchelll.nl/event/apres-ski-feest/
ATTACH;FMTTYPE=image/jpeg:https://www.mitchelll.nl/wp-content/uploads/2025/12/597418060_841755865273045_3491544013048061444_n.jpg
END:VEVENT
BEGIN:VEVENT
DTSTART;TZID=Europe/Paris:20260228T170000
DTEND;TZID=Europe/Paris:20260228T200000
DTSTAMP:20260421T071159
CREATED:20251020T095522Z
LAST-MODIFIED:20260224T144550Z
UID:1275-1772298000-1772308800@www.mitchelll.nl
SUMMARY:3e helft VV-Nieuw-Lekkerland
DESCRIPTION:een gezellige 3e helft met een gezellige sfeer
URL:https://www.mitchelll.nl/event/3e-helft-vv-nieuw-lekkerland/
ATTACH;FMTTYPE=image/jpeg:https://www.mitchelll.nl/wp-content/uploads/2025/10/629430320_18311882983270659_3656710748101058350_n.jpg
END:VEVENT
BEGIN:VEVENT
DTSTART;TZID=Europe/Paris:20260307T161500
DTEND;TZID=Europe/Paris:20260307T230000
DTSTAMP:20260421T071159
CREATED:20260224T144031Z
LAST-MODIFIED:20260224T144031Z
UID:1314-1772900100-1772924400@www.mitchelll.nl
SUMMARY:3e helft XXL VV Dilittant
DESCRIPTION:
URL:https://www.mitchelll.nl/event/3e-helft-xxl-vv-dilittant/
LOCATION:VV Dilletant\, Tiendweg 10\, Krimpen aan de Lek\, 2931 LC\, Netherlands
ATTACH;FMTTYPE=image/jpeg:https://www.mitchelll.nl/wp-content/uploads/2026/02/635668488_1548924907233852_8276016786326580203_n.jpg
END:VEVENT
BEGIN:VEVENT
DTSTART;TZID=Europe/Paris:20260321T140000
DTEND;TZID=Europe/Paris:20260321T200000
DTSTAMP:20260421T071159
CREATED:20250911T142300Z
LAST-MODIFIED:20260118T193138Z
UID:1251-1774101600-1774123200@www.mitchelll.nl
SUMMARY:3ᵉ helft tennisvereniging Nieuw-Lekkerland
DESCRIPTION:een gezellige dag met als 3ᵉ helft een dj
URL:https://www.mitchelll.nl/event/3%e1%b5%89-helft-tennisvereniging-nieuw-lekkerland/
ATTACH;FMTTYPE=image/png:https://www.mitchelll.nl/wp-content/uploads/2025/09/3-1-1.png
END:VEVENT
BEGIN:VEVENT
DTSTART;TZID=Europe/Paris:20260321T210000
DTEND;TZID=Europe/Paris:20260321T210000
DTSTAMP:20260421T071159
CREATED:20260224T144719Z
LAST-MODIFIED:20260224T145418Z
UID:1319-1774126800-1774126800@www.mitchelll.nl
SUMMARY:40+ party
DESCRIPTION:een 40+ besloten feest
URL:https://www.mitchelll.nl/event/40-party/
ATTACH;FMTTYPE=image/png:https://www.mitchelll.nl/wp-content/uploads/2025/02/Logo-Mitchell-transparant-1117x1024-1.png
END:VEVENT
BEGIN:VEVENT
DTSTART;VALUE=DATE:20260426
DTEND;VALUE=DATE:20260427
DTSTAMP:20260421T071159
CREATED:20260224T145134Z
LAST-MODIFIED:20260224T145134Z
UID:1324-1777161600-1777247999@www.mitchelll.nl
SUMMARY:tialf koningsdag
DESCRIPTION:
URL:https://www.mitchelll.nl/event/tialf-koningsdag/
END:VEVENT
END:VCALENDAR