BEGIN:VCALENDAR
VERSION:2.0
PRODID:-//DJ Mitchelll - ECPv6.15.16.1//NONSGML v1.0//EN
CALSCALE:GREGORIAN
METHOD:PUBLISH
X-WR-CALNAME:DJ Mitchelll
X-ORIGINAL-URL:https://www.mitchelll.nl
X-WR-CALDESC:Evenementen voor DJ Mitchelll
REFRESH-INTERVAL;VALUE=DURATION:PT1H
X-Robots-Tag:noindex
X-PUBLISHED-TTL:PT1H
BEGIN:VTIMEZONE
TZID:Europe/Paris
BEGIN:DAYLIGHT
TZOFFSETFROM:+0100
TZOFFSETTO:+0200
TZNAME:CEST
DTSTART:20240331T010000
END:DAYLIGHT
BEGIN:STANDARD
TZOFFSETFROM:+0200
TZOFFSETTO:+0100
TZNAME:CET
DTSTART:20241027T010000
END:STANDARD
BEGIN:DAYLIGHT
TZOFFSETFROM:+0100
TZOFFSETTO:+0200
TZNAME:CEST
DTSTART:20250330T010000
END:DAYLIGHT
BEGIN:STANDARD
TZOFFSETFROM:+0200
TZOFFSETTO:+0100
TZNAME:CET
DTSTART:20251026T010000
END:STANDARD
BEGIN:DAYLIGHT
TZOFFSETFROM:+0100
TZOFFSETTO:+0200
TZNAME:CEST
DTSTART:20260329T010000
END:DAYLIGHT
BEGIN:STANDARD
TZOFFSETFROM:+0200
TZOFFSETTO:+0100
TZNAME:CET
DTSTART:20261025T010000
END:STANDARD
END:VTIMEZONE
BEGIN:VEVENT
DTSTART;TZID=Europe/Paris:20251107T000000
DTEND;TZID=Europe/Paris:20251108T000000
DTSTAMP:20260421T052944
CREATED:20250924T173848Z
LAST-MODIFIED:20251027T130452Z
UID:1262-1762473600-1762560000@www.mitchelll.nl
SUMMARY:FEEST AAN DE LEK 2025
DESCRIPTION:7 & 8 november – Sporthal De Walvis\, Krimpen aan de Lek Mart Hoogkamer\, Billy Dans\, Nakatomi\, Jody Bernal\, Vieze Jack & meer! Twee avonden knallen van 20.00 tot 01.00 uur Tickets: €35\,- (voor beide avonden!)
URL:https://www.mitchelll.nl/event/feest-aan-de-lek-2025/
LOCATION:feest aan de lek\, groenland 37\, krimpen aan de lek\, 2931 RA\, Netherlands
ATTACH;FMTTYPE=image/jpeg:https://www.mitchelll.nl/wp-content/uploads/2025/09/552651943_1084799423810217_3865100445573642866_n.jpg
END:VEVENT
END:VCALENDAR