BEGIN:VCALENDAR
VERSION:2.0
PRODID:-//DJ Mitchelll - ECPv6.15.16.1//NONSGML v1.0//EN
CALSCALE:GREGORIAN
METHOD:PUBLISH
X-WR-CALNAME:DJ Mitchelll
X-ORIGINAL-URL:https://www.mitchelll.nl
X-WR-CALDESC:Evenementen voor DJ Mitchelll
REFRESH-INTERVAL;VALUE=DURATION:PT1H
X-Robots-Tag:noindex
X-PUBLISHED-TTL:PT1H
BEGIN:VTIMEZONE
TZID:Europe/Paris
BEGIN:DAYLIGHT
TZOFFSETFROM:+0100
TZOFFSETTO:+0200
TZNAME:CEST
DTSTART:20240331T010000
END:DAYLIGHT
BEGIN:STANDARD
TZOFFSETFROM:+0200
TZOFFSETTO:+0100
TZNAME:CET
DTSTART:20241027T010000
END:STANDARD
BEGIN:DAYLIGHT
TZOFFSETFROM:+0100
TZOFFSETTO:+0200
TZNAME:CEST
DTSTART:20250330T010000
END:DAYLIGHT
BEGIN:STANDARD
TZOFFSETFROM:+0200
TZOFFSETTO:+0100
TZNAME:CET
DTSTART:20251026T010000
END:STANDARD
BEGIN:DAYLIGHT
TZOFFSETFROM:+0100
TZOFFSETTO:+0200
TZNAME:CEST
DTSTART:20260329T010000
END:DAYLIGHT
BEGIN:STANDARD
TZOFFSETFROM:+0200
TZOFFSETTO:+0100
TZNAME:CET
DTSTART:20261025T010000
END:STANDARD
END:VTIMEZONE
BEGIN:VEVENT
DTSTART;VALUE=DATE:20250531
DTEND;VALUE=DATE:20250601
DTSTAMP:20260420T224122
CREATED:20250428T113120Z
LAST-MODIFIED:20250530T193121Z
UID:1184-1748649600-1748735999@www.mitchelll.nl
SUMMARY:eindfeest dilettant
DESCRIPTION:een goeie afsluiter voor de club dilettant team
URL:https://www.mitchelll.nl/event/eindfeest-dilettant/
LOCATION:VV Dilletant\, Tiendweg 10\, Krimpen aan de Lek\, 2931 LC\, Netherlands
END:VEVENT
END:VCALENDAR