BEGIN:VCALENDAR
VERSION:2.0
PRODID:-//DJ Mitchelll - ECPv6.15.16.1//NONSGML v1.0//EN
CALSCALE:GREGORIAN
METHOD:PUBLISH
X-WR-CALNAME:DJ Mitchelll
X-ORIGINAL-URL:https://www.mitchelll.nl
X-WR-CALDESC:Evenementen voor DJ Mitchelll
REFRESH-INTERVAL;VALUE=DURATION:PT1H
X-Robots-Tag:noindex
X-PUBLISHED-TTL:PT1H
BEGIN:VTIMEZONE
TZID:Europe/Paris
BEGIN:DAYLIGHT
TZOFFSETFROM:+0100
TZOFFSETTO:+0200
TZNAME:CEST
DTSTART:20240331T010000
END:DAYLIGHT
BEGIN:STANDARD
TZOFFSETFROM:+0200
TZOFFSETTO:+0100
TZNAME:CET
DTSTART:20241027T010000
END:STANDARD
BEGIN:DAYLIGHT
TZOFFSETFROM:+0100
TZOFFSETTO:+0200
TZNAME:CEST
DTSTART:20250330T010000
END:DAYLIGHT
BEGIN:STANDARD
TZOFFSETFROM:+0200
TZOFFSETTO:+0100
TZNAME:CET
DTSTART:20251026T010000
END:STANDARD
BEGIN:DAYLIGHT
TZOFFSETFROM:+0100
TZOFFSETTO:+0200
TZNAME:CEST
DTSTART:20260329T010000
END:DAYLIGHT
BEGIN:STANDARD
TZOFFSETFROM:+0200
TZOFFSETTO:+0100
TZNAME:CET
DTSTART:20261025T010000
END:STANDARD
END:VTIMEZONE
BEGIN:VEVENT
DTSTART;TZID=Europe/Paris:20250308T200000
DTEND;TZID=Europe/Paris:20250308T200000
DTSTAMP:20260421T001456
CREATED:20250226T144205Z
LAST-MODIFIED:20250301T192606Z
UID:1120-1741464000-1741464000@www.mitchelll.nl
SUMMARY:Club Carnaval - VV Dilletant
DESCRIPTION:Zaterdag 8 maart is het tijd voor een feestje. Het thema van deze avond is Club Carnaval. Alle leden\, vrijwilligers en supporters zijn van harte welkom om een mooi feestje te bouwen. \nKoop je kaarten nu via Ticketlink: https://eventix.shop/248t2m8q \n 
URL:https://www.mitchelll.nl/event/club-carnaval-vv-dilletant/
LOCATION:VV Dilletant\, Tiendweg 10\, Krimpen aan de Lek\, 2931 LC\, Netherlands
ATTACH;FMTTYPE=image/jpeg:https://www.mitchelll.nl/wp-content/uploads/2025/02/8-maart-club_carnaval.jpg
END:VEVENT
END:VCALENDAR